BEGIN:VCALENDAR
VERSION:2.0
PRODID:-//L W V W O C - ECPv6.15.15//NONSGML v1.0//EN
CALSCALE:GREGORIAN
METHOD:PUBLISH
X-WR-CALNAME:L W V W O C
X-ORIGINAL-URL:https://lwvwoc.co.uk
X-WR-CALDESC:Events for L W V W O C
REFRESH-INTERVAL;VALUE=DURATION:PT1H
X-Robots-Tag:noindex
X-PUBLISHED-TTL:PT1H
BEGIN:VTIMEZONE
TZID:Europe/London
BEGIN:DAYLIGHT
TZOFFSETFROM:+0000
TZOFFSETTO:+0100
TZNAME:BST
DTSTART:20230326T010000
END:DAYLIGHT
BEGIN:STANDARD
TZOFFSETFROM:+0100
TZOFFSETTO:+0000
TZNAME:GMT
DTSTART:20231029T010000
END:STANDARD
BEGIN:DAYLIGHT
TZOFFSETFROM:+0000
TZOFFSETTO:+0100
TZNAME:BST
DTSTART:20240331T010000
END:DAYLIGHT
BEGIN:STANDARD
TZOFFSETFROM:+0100
TZOFFSETTO:+0000
TZNAME:GMT
DTSTART:20241027T010000
END:STANDARD
BEGIN:DAYLIGHT
TZOFFSETFROM:+0000
TZOFFSETTO:+0100
TZNAME:BST
DTSTART:20250330T010000
END:DAYLIGHT
BEGIN:STANDARD
TZOFFSETFROM:+0100
TZOFFSETTO:+0000
TZNAME:GMT
DTSTART:20251026T010000
END:STANDARD
END:VTIMEZONE
BEGIN:VEVENT
DTSTART;TZID=Europe/London:20240721T110000
DTEND;TZID=Europe/London:20240721T170000
DTSTAMP:20260422T072210
CREATED:20240413T193924Z
LAST-MODIFIED:20240518T102101Z
UID:10000070-1721559600-1721581200@lwvwoc.co.uk
SUMMARY:Bosworth Country Park Picnic 21/07/2024
DESCRIPTION:Join us for a relaxing picnic in this lovely country park. A great chance for a natter\, walk and normally an ice cream. \nWe will be there at 11am weather permitting. Just bring along food drinks and chairs. \nContact Andy Fulwood: 07843079065 \nlwvwoc.editor@gmail.com
URL:https://lwvwoc.co.uk/event/bosworth-country-park-picnic-21-07-2024/
LOCATION:Market Bosworth Country Park\, CV13 0LP\, United Kingdom
ATTACH;FMTTYPE=image/jpeg:https://lwvwoc.co.uk/wp-content/uploads/2024/04/boswortha.jpg
END:VEVENT
END:VCALENDAR