BEGIN:VCALENDAR
VERSION:2.0
PRODID:-//L W V W O C - ECPv6.15.15//NONSGML v1.0//EN
CALSCALE:GREGORIAN
METHOD:PUBLISH
X-ORIGINAL-URL:https://lwvwoc.co.uk
X-WR-CALDESC:Events for L W V W O C
REFRESH-INTERVAL;VALUE=DURATION:PT1H
X-Robots-Tag:noindex
X-PUBLISHED-TTL:PT1H
BEGIN:VTIMEZONE
TZID:Europe/London
BEGIN:DAYLIGHT
TZOFFSETFROM:+0000
TZOFFSETTO:+0100
TZNAME:BST
DTSTART:20230326T010000
END:DAYLIGHT
BEGIN:STANDARD
TZOFFSETFROM:+0100
TZOFFSETTO:+0000
TZNAME:GMT
DTSTART:20231029T010000
END:STANDARD
BEGIN:DAYLIGHT
TZOFFSETFROM:+0000
TZOFFSETTO:+0100
TZNAME:BST
DTSTART:20240331T010000
END:DAYLIGHT
BEGIN:STANDARD
TZOFFSETFROM:+0100
TZOFFSETTO:+0000
TZNAME:GMT
DTSTART:20241027T010000
END:STANDARD
BEGIN:DAYLIGHT
TZOFFSETFROM:+0000
TZOFFSETTO:+0100
TZNAME:BST
DTSTART:20250330T010000
END:DAYLIGHT
BEGIN:STANDARD
TZOFFSETFROM:+0100
TZOFFSETTO:+0000
TZNAME:GMT
DTSTART:20251026T010000
END:STANDARD
END:VTIMEZONE
BEGIN:VEVENT
DTSTART;TZID=Europe/London:20240204T100000
DTEND;TZID=Europe/London:20240204T170000
DTSTAMP:20260422T105657
CREATED:20231008T090912Z
LAST-MODIFIED:20231129T183319Z
UID:10000062-1707040800-1707066000@lwvwoc.co.uk
SUMMARY:Gaydon Auto Jumble 04/02/2024
DESCRIPTION:Midlands Aircooled Swap Meet. British Motor Museum\, Banbury Road\, Warwick. CV35 0BJ.\n\nAfter the massive\, sell-out success of the first Midland’s Air-Cooled Swap Meet we’re excited to do all over again. Only this time in much larger venue.\n\n\nThe date for the next Swap Meet is Sunday 4th February 2024 and the new venue is the home of the world’s largest collection of historic British Cars\, The British Motor Museum in Gaydon\, Warwickshire.\n\n\n\nOnce again\, we’re winding the clock back to the good old days of UK swap meets\, where the main focus will be on quality new and used air-cooled Volkswagen and Porsche related items. Whether it’s NOS/genuine used parts you’re after\, or quality new items\, we wanty ou to come away with everything you need for your beloved vehicle. \n\nWe had tremendous support at the last event and many of those traders from our first Swap Meet have already signed up again. We also have many more wishing trade too and if you’ve got a load of quality air-cooled parts you’re looking to sell\, please get in touch and ask about a pitch. Just be quick as they’re allocated on a first come\, first serve basis.\n\n\nThe British Motor Museum is located in the heart of the Midlands\, just a few minutes off junction 12 of the M40\, so it’s within easy reach for all. The superb new venue is larger than the previous one and has its own dedicated entrance and extensive parking for your air-cooled vehicles.\n\n\n\nWhy not make a full day of it by coming along to the swap meet and then having a look around the amazing collection of classic British made metal? (Separate charges apply). \n\nWe recommend buying your swap meet general admission tickets well in advance to avoid disappointment. Visit our website midlandsaircooledswapmeet.com to buy your tickets.\n\n\nWe look forward to seeing you all on Sunday 4th February 2024.\n\n\n***We now have a Club Plot at the Show***\n\nFor more details contact Colin Taylor: \ncolintaylor77@icloud.com\n\n\n\n\n\n 
URL:https://lwvwoc.co.uk/event/gaydon-auto-jumble-04-02-2024/
LOCATION:British Motor Museum\, Banbury Road\, Gaydon\, Warwickshire\, CV35 0BJ\, United Kingdom
ATTACH;FMTTYPE=image/jpeg:https://lwvwoc.co.uk/wp-content/uploads/2023/10/image0-3-rotated.jpeg
ORGANIZER;CN="Colin Taylor":MAILTO:colintaylor77@icloud.com
END:VEVENT
END:VCALENDAR