BEGIN:VCALENDAR
VERSION:2.0
PRODID:-//L W V W O C - ECPv6.15.15//NONSGML v1.0//EN
CALSCALE:GREGORIAN
METHOD:PUBLISH
X-WR-CALNAME:L W V W O C
X-ORIGINAL-URL:https://lwvwoc.co.uk
X-WR-CALDESC:Events for L W V W O C
REFRESH-INTERVAL;VALUE=DURATION:PT1H
X-Robots-Tag:noindex
X-PUBLISHED-TTL:PT1H
BEGIN:VTIMEZONE
TZID:Europe/London
BEGIN:DAYLIGHT
TZOFFSETFROM:+0000
TZOFFSETTO:+0100
TZNAME:BST
DTSTART:20220327T010000
END:DAYLIGHT
BEGIN:STANDARD
TZOFFSETFROM:+0100
TZOFFSETTO:+0000
TZNAME:GMT
DTSTART:20221030T010000
END:STANDARD
BEGIN:DAYLIGHT
TZOFFSETFROM:+0000
TZOFFSETTO:+0100
TZNAME:BST
DTSTART:20230326T010000
END:DAYLIGHT
BEGIN:STANDARD
TZOFFSETFROM:+0100
TZOFFSETTO:+0000
TZNAME:GMT
DTSTART:20231029T010000
END:STANDARD
BEGIN:DAYLIGHT
TZOFFSETFROM:+0000
TZOFFSETTO:+0100
TZNAME:BST
DTSTART:20240331T010000
END:DAYLIGHT
BEGIN:STANDARD
TZOFFSETFROM:+0100
TZOFFSETTO:+0000
TZNAME:GMT
DTSTART:20241027T010000
END:STANDARD
END:VTIMEZONE
BEGIN:VEVENT
DTSTART;TZID=Europe/London:20230129T130000
DTEND;TZID=Europe/London:20230129T170000
DTSTAMP:20260422T232323
CREATED:20230108T170804Z
LAST-MODIFIED:20230108T171304Z
UID:10000042-1674997200-1675011600@lwvwoc.co.uk
SUMMARY:Ryder Cup Crazy Golf Event
DESCRIPTION:Join us on January 29th for a fun packed game of crazy golf at Caddy Shackers in Leicester. Two teams will play as USA and Europe to compete for the trophy and the coveted green jacket.
URL:https://lwvwoc.co.uk/event/ryder-cup-crazy-golf-event/
LOCATION:Caddy Shackers – Leicester\, 50 Calais Hill\, Leicester. LE1 6AR
ATTACH;FMTTYPE=image/jpeg:https://lwvwoc.co.uk/wp-content/uploads/2023/01/WhatsApp-Image-2022-11-14-at-17.29.28.jpeg
END:VEVENT
END:VCALENDAR