BEGIN:VCALENDAR
VERSION:2.0
PRODID:-//L W V W O C - ECPv6.15.15//NONSGML v1.0//EN
CALSCALE:GREGORIAN
METHOD:PUBLISH
X-WR-CALNAME:L W V W O C
X-ORIGINAL-URL:https://lwvwoc.co.uk
X-WR-CALDESC:Events for L W V W O C
REFRESH-INTERVAL;VALUE=DURATION:PT1H
X-Robots-Tag:noindex
X-PUBLISHED-TTL:PT1H
BEGIN:VTIMEZONE
TZID:Europe/London
BEGIN:DAYLIGHT
TZOFFSETFROM:+0000
TZOFFSETTO:+0100
TZNAME:BST
DTSTART:20210328T010000
END:DAYLIGHT
BEGIN:STANDARD
TZOFFSETFROM:+0100
TZOFFSETTO:+0000
TZNAME:GMT
DTSTART:20211031T010000
END:STANDARD
BEGIN:DAYLIGHT
TZOFFSETFROM:+0000
TZOFFSETTO:+0100
TZNAME:BST
DTSTART:20220327T010000
END:DAYLIGHT
BEGIN:STANDARD
TZOFFSETFROM:+0100
TZOFFSETTO:+0000
TZNAME:GMT
DTSTART:20221030T010000
END:STANDARD
BEGIN:DAYLIGHT
TZOFFSETFROM:+0000
TZOFFSETTO:+0100
TZNAME:BST
DTSTART:20230326T010000
END:DAYLIGHT
BEGIN:STANDARD
TZOFFSETFROM:+0100
TZOFFSETTO:+0000
TZNAME:GMT
DTSTART:20231029T010000
END:STANDARD
END:VTIMEZONE
BEGIN:VEVENT
DTSTART;TZID=Europe/London:20221217T190000
DTEND;TZID=Europe/London:20221217T220000
DTSTAMP:20260422T232424
CREATED:20221016T201937Z
LAST-MODIFIED:20221016T201937Z
UID:10000001-1671303600-1671314400@lwvwoc.co.uk
SUMMARY:Christmas Meal - 2022
DESCRIPTION:We still have some places remaining if you would like to join us for our annual Christmas meal at the Wycliffe Rooms\, George Street\, Lutterworth (LE17 4ED). \nStarting at 7.00pm\, this is a good opportunity to get into the Christmas spirit with your fellow VW fans! \nFor further details (including a menu) and to book a place\, please email Pat Screaton (patriciascreaton@gmail.com) no later than 30th Nov ’22.  A deposit of £15 per person will be required to confirm your booking.
URL:https://lwvwoc.co.uk/event/christmas-meal-2022/
LOCATION:Wycliffe Rooms\, Lutterworth
ATTACH;FMTTYPE=image/png:https://lwvwoc.co.uk/wp-content/uploads/2022/10/Christmas_21.png
END:VEVENT
END:VCALENDAR