BEGIN:VCALENDAR
VERSION:2.0
PRODID:-//L W V W O C - ECPv6.15.15//NONSGML v1.0//EN
CALSCALE:GREGORIAN
METHOD:PUBLISH
X-WR-CALNAME:L W V W O C
X-ORIGINAL-URL:https://lwvwoc.co.uk
X-WR-CALDESC:Events for L W V W O C
REFRESH-INTERVAL;VALUE=DURATION:PT1H
X-Robots-Tag:noindex
X-PUBLISHED-TTL:PT1H
BEGIN:VTIMEZONE
TZID:Europe/London
BEGIN:DAYLIGHT
TZOFFSETFROM:+0000
TZOFFSETTO:+0100
TZNAME:BST
DTSTART:20210328T010000
END:DAYLIGHT
BEGIN:STANDARD
TZOFFSETFROM:+0100
TZOFFSETTO:+0000
TZNAME:GMT
DTSTART:20211031T010000
END:STANDARD
BEGIN:DAYLIGHT
TZOFFSETFROM:+0000
TZOFFSETTO:+0100
TZNAME:BST
DTSTART:20220327T010000
END:DAYLIGHT
BEGIN:STANDARD
TZOFFSETFROM:+0100
TZOFFSETTO:+0000
TZNAME:GMT
DTSTART:20221030T010000
END:STANDARD
BEGIN:DAYLIGHT
TZOFFSETFROM:+0000
TZOFFSETTO:+0100
TZNAME:BST
DTSTART:20230326T010000
END:DAYLIGHT
BEGIN:STANDARD
TZOFFSETFROM:+0100
TZOFFSETTO:+0000
TZNAME:GMT
DTSTART:20231029T010000
END:STANDARD
END:VTIMEZONE
BEGIN:VEVENT
DTSTART;TZID=Europe/London:20220710T080000
DTEND;TZID=Europe/London:20220710T170000
DTSTAMP:20260422T232326
CREATED:20220702T161117Z
LAST-MODIFIED:20220702T161117Z
UID:10000033-1657440000-1657472400@lwvwoc.co.uk
SUMMARY:Market Harborough Classic Car Show
DESCRIPTION:This popular event attracted more than 25\,000 people in 2019 and over 250 vehicles lining the street in Market Harborough Town Centre. This year’s event takes place on Sunday 10th July 2022 between 10am and 4pm. \nRegistrations are now open and are FREE. To register your interest please contact Harborough live events on Harboroughcarshow@gmail.com\, call for more information on 01858 469 903 Monday to Friday 9am until 5pm or write to Harborough Live events\, Unit 11 Sutton Court\, Bath Street\, Market Harborough\, Leicestershire. LE16 9EQ. \nThe event is open to all types of vehicles. From lorries to Lambrettas\, Ferraris to Fire engines\, and motor bikes to Maybach\, we welcome any ages and style with prizes for best in show up for grabs.\nWith food stalls plus an auto jumble thrown in\, this promises to be a great day out for all. \nClick here for details
URL:https://lwvwoc.co.uk/event/market-harborough-classic-car-show/
ATTACH;FMTTYPE=image/jpeg:https://lwvwoc.co.uk/wp-content/uploads/2022/07/classic-car-show-2022-300x192-1.jpg
END:VEVENT
END:VCALENDAR