BEGIN:VCALENDAR
VERSION:2.0
PRODID:-//L W V W O C - ECPv6.15.15//NONSGML v1.0//EN
CALSCALE:GREGORIAN
METHOD:PUBLISH
X-ORIGINAL-URL:https://lwvwoc.co.uk
X-WR-CALDESC:Events for L W V W O C
REFRESH-INTERVAL;VALUE=DURATION:PT1H
X-Robots-Tag:noindex
X-PUBLISHED-TTL:PT1H
BEGIN:VTIMEZONE
TZID:Europe/London
BEGIN:DAYLIGHT
TZOFFSETFROM:+0000
TZOFFSETTO:+0100
TZNAME:BST
DTSTART:20230326T010000
END:DAYLIGHT
BEGIN:STANDARD
TZOFFSETFROM:+0100
TZOFFSETTO:+0000
TZNAME:GMT
DTSTART:20231029T010000
END:STANDARD
BEGIN:DAYLIGHT
TZOFFSETFROM:+0000
TZOFFSETTO:+0100
TZNAME:BST
DTSTART:20240331T010000
END:DAYLIGHT
BEGIN:STANDARD
TZOFFSETFROM:+0100
TZOFFSETTO:+0000
TZNAME:GMT
DTSTART:20241027T010000
END:STANDARD
BEGIN:DAYLIGHT
TZOFFSETFROM:+0000
TZOFFSETTO:+0100
TZNAME:BST
DTSTART:20250330T010000
END:DAYLIGHT
BEGIN:STANDARD
TZOFFSETFROM:+0100
TZOFFSETTO:+0000
TZNAME:GMT
DTSTART:20251026T010000
END:STANDARD
END:VTIMEZONE
BEGIN:VEVENT
DTSTART;TZID=Europe/London:20240407T153000
DTEND;TZID=Europe/London:20240407T180000
DTSTAMP:20260422T053845
CREATED:20240214T201324Z
LAST-MODIFIED:20240226T212546Z
UID:10000068-1712503800-1712512800@lwvwoc.co.uk
SUMMARY:Stanford Hall Tour and Afternoon Tea 07/04/2024
DESCRIPTION:07/04/2024– Stanford Hall Afternoon Tea and Guided Tour. Meeting at 3:00pm in the grounds of Stanford Hall\nfor a guided tour at 3:30pm followed by afternoon tea and cake.
URL:https://lwvwoc.co.uk/event/stanford-hall-tour-and-afternoon-tea-07-04-2024/
ATTACH;FMTTYPE=image/jpeg:https://lwvwoc.co.uk/wp-content/uploads/2020/04/Stanford-Hall-2012-Small-00818.jpg
END:VEVENT
BEGIN:VEVENT
DTSTART;TZID=Europe/London:20240421T140000
DTEND;TZID=Europe/London:20240421T170000
DTSTAMP:20260422T053845
CREATED:20240214T201856Z
LAST-MODIFIED:20240409T170606Z
UID:10000069-1713708000-1713718800@lwvwoc.co.uk
SUMMARY:Stanford Hall Helpers Meeting 21/04/2024
DESCRIPTION:21/04/2024— Stanford Hall helpers meeting. 2pm at the hall. Time to find out what the show is all about and check the grounds\, \nAll help is really appreciated for this event. Lots of jobs to get you involved in this popular show!
URL:https://lwvwoc.co.uk/event/stanford-hall-helpers-meeting-21-04-2024-2/
ATTACH;FMTTYPE=image/jpeg:https://lwvwoc.co.uk/wp-content/uploads/2022/07/20220430_153834-scaled.jpg
END:VEVENT
END:VCALENDAR