BEGIN:VCALENDAR
VERSION:2.0
PRODID:-//L W V W O C - ECPv6.15.15//NONSGML v1.0//EN
CALSCALE:GREGORIAN
METHOD:PUBLISH
X-ORIGINAL-URL:https://lwvwoc.co.uk
X-WR-CALDESC:Events for L W V W O C
REFRESH-INTERVAL;VALUE=DURATION:PT1H
X-Robots-Tag:noindex
X-PUBLISHED-TTL:PT1H
BEGIN:VTIMEZONE
TZID:Europe/London
BEGIN:DAYLIGHT
TZOFFSETFROM:+0000
TZOFFSETTO:+0100
TZNAME:BST
DTSTART:20220327T010000
END:DAYLIGHT
BEGIN:STANDARD
TZOFFSETFROM:+0100
TZOFFSETTO:+0000
TZNAME:GMT
DTSTART:20221030T010000
END:STANDARD
BEGIN:DAYLIGHT
TZOFFSETFROM:+0000
TZOFFSETTO:+0100
TZNAME:BST
DTSTART:20230326T010000
END:DAYLIGHT
BEGIN:STANDARD
TZOFFSETFROM:+0100
TZOFFSETTO:+0000
TZNAME:GMT
DTSTART:20231029T010000
END:STANDARD
BEGIN:DAYLIGHT
TZOFFSETFROM:+0000
TZOFFSETTO:+0100
TZNAME:BST
DTSTART:20240331T010000
END:DAYLIGHT
BEGIN:STANDARD
TZOFFSETFROM:+0100
TZOFFSETTO:+0000
TZNAME:GMT
DTSTART:20241027T010000
END:STANDARD
END:VTIMEZONE
BEGIN:VEVENT
DTSTART;TZID=Europe/London:20231008T120000
DTEND;TZID=Europe/London:20231008T170000
DTSTAMP:20260423T075343
CREATED:20230830T134942Z
LAST-MODIFIED:20231024T195906Z
UID:10000059-1696766400-1696784400@lwvwoc.co.uk
SUMMARY:LWVWOC AGM
DESCRIPTION:Sunday 8th of October will see the club meet for its annual general meeting . \nAt the Wycliffe Rooms George st Lutterworth . \nArrival time is 12.00 \nLunch served at 12.30 \nAGM from 14.00 \n£10.00 for 3 course lunch menu attached \nPlease bring £10.00 cash to AGM or transfer to club Paypal with reference AGM \nAll interested please email patriciascreaton@gmail.com \nIf you do not wish to have food\, you can just attend the AGM at 2pm. \nVW Club AGM \n8th October  \nPre order required \nCarrot and coriander soup (gf/vegan) \nChicken liver pate with chutney and toast (gfa) \nSmoked salmon and prawn salad \nXXX \nRoast beef \nRoast ham \nBoth Meats \nPoached salmon with a hollandaise sauce \nGoats cheese and cherry tomato tart  \nMed tart with rustic tomato sauce (vegan) \nXXX \nSticky toffee sponge and custard \nApple pie and custard \nVanilla cheesecake with a fruit compot \nCheese and biscuits \nXXX \n3 course meal £20 \nPlease let us know of any dietary requirements and meal can be altered to suit  \n 
URL:https://lwvwoc.co.uk/event/lwvwoc-agm/
LOCATION:Wycliffe Rooms\, Lutterworth
END:VEVENT
END:VCALENDAR