BEGIN:VCALENDAR
VERSION:2.0
PRODID:-//L W V W O C - ECPv6.15.15//NONSGML v1.0//EN
CALSCALE:GREGORIAN
METHOD:PUBLISH
X-WR-CALNAME:L W V W O C
X-ORIGINAL-URL:https://lwvwoc.co.uk
X-WR-CALDESC:Events for L W V W O C
REFRESH-INTERVAL;VALUE=DURATION:PT1H
X-Robots-Tag:noindex
X-PUBLISHED-TTL:PT1H
BEGIN:VTIMEZONE
TZID:Europe/London
BEGIN:DAYLIGHT
TZOFFSETFROM:+0000
TZOFFSETTO:+0100
TZNAME:BST
DTSTART:20220327T010000
END:DAYLIGHT
BEGIN:STANDARD
TZOFFSETFROM:+0100
TZOFFSETTO:+0000
TZNAME:GMT
DTSTART:20221030T010000
END:STANDARD
BEGIN:DAYLIGHT
TZOFFSETFROM:+0000
TZOFFSETTO:+0100
TZNAME:BST
DTSTART:20230326T010000
END:DAYLIGHT
BEGIN:STANDARD
TZOFFSETFROM:+0100
TZOFFSETTO:+0000
TZNAME:GMT
DTSTART:20231029T010000
END:STANDARD
BEGIN:DAYLIGHT
TZOFFSETFROM:+0000
TZOFFSETTO:+0100
TZNAME:BST
DTSTART:20240331T010000
END:DAYLIGHT
BEGIN:STANDARD
TZOFFSETFROM:+0100
TZOFFSETTO:+0000
TZNAME:GMT
DTSTART:20241027T010000
END:STANDARD
END:VTIMEZONE
BEGIN:VEVENT
DTSTART;VALUE=DATE:20230512
DTEND;VALUE=DATE:20230515
DTSTAMP:20260422T232328
CREATED:20230115T120056Z
LAST-MODIFIED:20230115T144244Z
UID:10000046-1683849600-1684108799@lwvwoc.co.uk
SUMMARY:V Dubs UK Weekender
DESCRIPTION:  \nThis is an event which club members have shown an interest in attending. If you are interested\, please join the WhatsApp group for further information so we can get club camping plots. Please send your mobile phone number to Mark Sutton to be added to this group – 07973 670097.
URL:https://lwvwoc.co.uk/event/v-dubs-uk-weekender/
LOCATION:East Langton
ATTACH;FMTTYPE=image/jpeg:https://lwvwoc.co.uk/wp-content/uploads/2023/01/vdub.jpeg
END:VEVENT
BEGIN:VEVENT
DTSTART;TZID=Europe/London:20230521T080000
DTEND;TZID=Europe/London:20230521T170000
DTSTAMP:20260422T232328
CREATED:20230220T182402Z
LAST-MODIFIED:20230515T205839Z
UID:10000054-1684656000-1684688400@lwvwoc.co.uk
SUMMARY:Upton House and Gardens
DESCRIPTION:Lord and Lady Bearsted’s 1930s country retreat with dramatic terraced gardens and world-renowned art collection. \nnear Banbury\, Warwickshire\, OX15 6HT. Meeting time at the house is 11am. \nSome members are planning to convoy in. If you wish to meet up to convoy please meet in the village of Brinklow on the Fosse Way @ 10:15am. Keep an eye out for VW’s parked up on the Main Road.
URL:https://lwvwoc.co.uk/event/upton-house-and-gardens/
ATTACH;FMTTYPE=image/jpeg:https://lwvwoc.co.uk/wp-content/uploads/2023/02/Upton.jpg
END:VEVENT
BEGIN:VEVENT
DTSTART;VALUE=DATE:20230526
DTEND;VALUE=DATE:20230604
DTSTAMP:20260422T232328
CREATED:20230115T120828Z
LAST-MODIFIED:20230115T120828Z
UID:10000047-1685059200-1685836799@lwvwoc.co.uk
SUMMARY:Scottish Tour
DESCRIPTION:Friday 26th May – Saturday 3rd June. \nScottish Tour – New Lanark\, Oban and Fort William. Please contact Rob Loughrey to book place. See magazine (Winter Edition) for article.
URL:https://lwvwoc.co.uk/event/scottish-tour/
END:VEVENT
END:VCALENDAR