BEGIN:VCALENDAR
VERSION:2.0
PRODID:-//L W V W O C - ECPv6.15.15//NONSGML v1.0//EN
CALSCALE:GREGORIAN
METHOD:PUBLISH
X-WR-CALNAME:L W V W O C
X-ORIGINAL-URL:https://lwvwoc.co.uk
X-WR-CALDESC:Events for L W V W O C
REFRESH-INTERVAL;VALUE=DURATION:PT1H
X-Robots-Tag:noindex
X-PUBLISHED-TTL:PT1H
BEGIN:VTIMEZONE
TZID:Europe/London
BEGIN:DAYLIGHT
TZOFFSETFROM:+0000
TZOFFSETTO:+0100
TZNAME:BST
DTSTART:20220327T010000
END:DAYLIGHT
BEGIN:STANDARD
TZOFFSETFROM:+0100
TZOFFSETTO:+0000
TZNAME:GMT
DTSTART:20221030T010000
END:STANDARD
BEGIN:DAYLIGHT
TZOFFSETFROM:+0000
TZOFFSETTO:+0100
TZNAME:BST
DTSTART:20230326T010000
END:DAYLIGHT
BEGIN:STANDARD
TZOFFSETFROM:+0100
TZOFFSETTO:+0000
TZNAME:GMT
DTSTART:20231029T010000
END:STANDARD
BEGIN:DAYLIGHT
TZOFFSETFROM:+0000
TZOFFSETTO:+0100
TZNAME:BST
DTSTART:20240331T010000
END:DAYLIGHT
BEGIN:STANDARD
TZOFFSETFROM:+0100
TZOFFSETTO:+0000
TZNAME:GMT
DTSTART:20241027T010000
END:STANDARD
END:VTIMEZONE
BEGIN:VEVENT
DTSTART;TZID=Europe/London:20230402T000000
DTEND;TZID=Europe/London:20230402T000000
DTSTAMP:20260422T215812
CREATED:20230220T181204Z
LAST-MODIFIED:20230220T181607Z
UID:10000053-1680393600-1680393600@lwvwoc.co.uk
SUMMARY:Museum of Making\, Silk Mill\, Derby\,
DESCRIPTION:Sunday 2 nd April – Celebrating the area’s rich history of innovation\, the Museum of Making in the Derwent Valley Mills UNESCO World Heritage Site is a contemporary space telling Derby’s 300-year history of making to inspire new creativity. Designed and made by the people and industries of Derby with exhibits\, workshops\, activities and events\, there’s something here for everyone including a new café\, shop and venue hire space. Silk Mill Lane Derby. DE1 3AF. More details to follow.
URL:https://lwvwoc.co.uk/event/museum-of-making-silk-mill-derby/
ATTACH;FMTTYPE=image/jpeg:https://lwvwoc.co.uk/wp-content/uploads/2023/02/silk.jpg
END:VEVENT
BEGIN:VEVENT
DTSTART;TZID=Europe/London:20230416T110000
DTEND;TZID=Europe/London:20230416T140000
DTSTAMP:20260422T215812
CREATED:20230113T210407Z
LAST-MODIFIED:20230115T115100Z
UID:10000043-1681642800-1681653600@lwvwoc.co.uk
SUMMARY:Stanford Hall Helpers Meeting
DESCRIPTION:Stanford Hall Helpers Meeting. Proposed date to meet at 11:00am at the hall to view site and go over organisation details and show locations. More details to follow.
URL:https://lwvwoc.co.uk/event/stanford-hall-helpers-meeting/
LOCATION:Stanford Hall
ATTACH;FMTTYPE=image/jpeg:https://lwvwoc.co.uk/wp-content/uploads/2022/07/SH-2022-Amy-3.jpg
END:VEVENT
BEGIN:VEVENT
DTSTART;VALUE=DATE:20230430
DTEND;VALUE=DATE:20230501
DTSTAMP:20260422T215812
CREATED:20221014T180413Z
LAST-MODIFIED:20221014T180505Z
UID:10000011-1682812800-1682899199@lwvwoc.co.uk
SUMMARY:Stanford Hall VW 2023
DESCRIPTION:THE Classic Volkswagen Festival in the UK makes it’s return in 2023\, 30th April.
URL:https://lwvwoc.co.uk/event/stanford-hall-vw-2023/
LOCATION:Stanford Hall
CATEGORIES:Club Event
ATTACH;FMTTYPE=image/jpeg:https://lwvwoc.co.uk/wp-content/uploads/2022/07/SH-2022-Carla-9-scaled.jpg
END:VEVENT
END:VCALENDAR