BEGIN:VCALENDAR
VERSION:2.0
PRODID:-//L W V W O C - ECPv6.15.15//NONSGML v1.0//EN
CALSCALE:GREGORIAN
METHOD:PUBLISH
X-ORIGINAL-URL:https://lwvwoc.co.uk
X-WR-CALDESC:Events for L W V W O C
REFRESH-INTERVAL;VALUE=DURATION:PT1H
X-Robots-Tag:noindex
X-PUBLISHED-TTL:PT1H
BEGIN:VTIMEZONE
TZID:Europe/London
BEGIN:DAYLIGHT
TZOFFSETFROM:+0000
TZOFFSETTO:+0100
TZNAME:BST
DTSTART:20210328T010000
END:DAYLIGHT
BEGIN:STANDARD
TZOFFSETFROM:+0100
TZOFFSETTO:+0000
TZNAME:GMT
DTSTART:20211031T010000
END:STANDARD
BEGIN:DAYLIGHT
TZOFFSETFROM:+0000
TZOFFSETTO:+0100
TZNAME:BST
DTSTART:20220327T010000
END:DAYLIGHT
BEGIN:STANDARD
TZOFFSETFROM:+0100
TZOFFSETTO:+0000
TZNAME:GMT
DTSTART:20221030T010000
END:STANDARD
BEGIN:DAYLIGHT
TZOFFSETFROM:+0000
TZOFFSETTO:+0100
TZNAME:BST
DTSTART:20230326T010000
END:DAYLIGHT
BEGIN:STANDARD
TZOFFSETFROM:+0100
TZOFFSETTO:+0000
TZNAME:GMT
DTSTART:20231029T010000
END:STANDARD
END:VTIMEZONE
BEGIN:VEVENT
DTSTART;TZID=Europe/London:20221002T110000
DTEND;TZID=Europe/London:20221002T163000
DTSTAMP:20260422T123442
CREATED:20220702T164950Z
LAST-MODIFIED:20220702T165011Z
UID:10000040-1664708400-1664728200@lwvwoc.co.uk
SUMMARY:Club 2022 AGM
DESCRIPTION:The Club’s Annual General Meeting\nCome along and have your say. \nDetails to follow.
URL:https://lwvwoc.co.uk/event/club-2022-agm/
LOCATION:Wycliffe Rooms\, Lutterworth
ATTACH;FMTTYPE=image/jpeg:https://lwvwoc.co.uk/wp-content/uploads/2020/04/LWVWOC-Logo-jpg.jpg
END:VEVENT
BEGIN:VEVENT
DTSTART;TZID=Europe/London:20221011T193000
DTEND;TZID=Europe/London:20221011T223000
DTSTAMP:20260422T123442
CREATED:20220702T165236Z
LAST-MODIFIED:20220702T165309Z
UID:10000041-1665516600-1665527400@lwvwoc.co.uk
SUMMARY:Quiz Night and Supper
DESCRIPTION:Quiz Night and Supper\nRob & Evan are your quizmasters \nAt the Red Lion\, Huncote.
URL:https://lwvwoc.co.uk/event/quiz-night-and-supper/
END:VEVENT
END:VCALENDAR