BEGIN:VCALENDAR
VERSION:2.0
PRODID:-//L W V W O C - ECPv6.15.15//NONSGML v1.0//EN
CALSCALE:GREGORIAN
METHOD:PUBLISH
X-WR-CALNAME:L W V W O C
X-ORIGINAL-URL:https://lwvwoc.co.uk
X-WR-CALDESC:Events for L W V W O C
REFRESH-INTERVAL;VALUE=DURATION:PT1H
X-Robots-Tag:noindex
X-PUBLISHED-TTL:PT1H
BEGIN:VTIMEZONE
TZID:Europe/London
BEGIN:DAYLIGHT
TZOFFSETFROM:+0000
TZOFFSETTO:+0100
TZNAME:BST
DTSTART:20210328T010000
END:DAYLIGHT
BEGIN:STANDARD
TZOFFSETFROM:+0100
TZOFFSETTO:+0000
TZNAME:GMT
DTSTART:20211031T010000
END:STANDARD
BEGIN:DAYLIGHT
TZOFFSETFROM:+0000
TZOFFSETTO:+0100
TZNAME:BST
DTSTART:20220327T010000
END:DAYLIGHT
BEGIN:STANDARD
TZOFFSETFROM:+0100
TZOFFSETTO:+0000
TZNAME:GMT
DTSTART:20221030T010000
END:STANDARD
BEGIN:DAYLIGHT
TZOFFSETFROM:+0000
TZOFFSETTO:+0100
TZNAME:BST
DTSTART:20230326T010000
END:DAYLIGHT
BEGIN:STANDARD
TZOFFSETFROM:+0100
TZOFFSETTO:+0000
TZNAME:GMT
DTSTART:20231029T010000
END:STANDARD
END:VTIMEZONE
BEGIN:VEVENT
DTSTART;TZID=Europe/London:20220903T100000
DTEND;TZID=Europe/London:20220903T140000
DTSTAMP:20260422T110151
CREATED:20220702T163842Z
LAST-MODIFIED:20220702T163843Z
UID:10000038-1662199200-1662213600@lwvwoc.co.uk
SUMMARY:Huggy's Speed Shop
DESCRIPTION:Club visit to Huggy’s at Mallory Park\nMeet at 10am outside venue
URL:https://lwvwoc.co.uk/event/huggys-speed-shop/
END:VEVENT
BEGIN:VEVENT
DTSTART;VALUE=DATE:20220909
DTEND;VALUE=DATE:20220912
DTSTAMP:20260422T110151
CREATED:20200403T181721Z
LAST-MODIFIED:20220602T191237Z
UID:10000003-1662681600-1662940799@lwvwoc.co.uk
SUMMARY:Summer Camp Out (Lincoln) - 2022
DESCRIPTION:This year’s summer camp out will take place in Lincoln at a lovely little camp site nestled in Hartsholme Country Park in Lincoln. The camp site is a located a 14 minute car drive or 38 min bus ride from the centre of Lincoln where you can enjoy the beautiful cathedral\, historic castle and quaint shops of Steep Hill or even the RAF Scampton heritage centre. \n\n\n\nThe camp site is small and fills up quickly so we would need to get all bookings in as soon as possible. Prices are as follows: \n\n\n\n\nCamper Van / Large Tent with electric – £21.50 per night\nTent – non electric £18.50 per night\nAwning – £3.00 per night\nDog – £1.00 per stay\n\n\n\n\nCamping pods are also available – these are empty but have electric heating and sleep 2 adults and 2 children £36.00 per night \n\n\n\nAnyone wishing to take part should contact Mark Forman (mjforman@hotmail.co.uk) by 21st June ’22.  \n\n\n\nA £25 deposit will secure your pitch and the rest is payable at the camp site.
URL:https://lwvwoc.co.uk/event/summer-camp-out-lincoln/
ATTACH;FMTTYPE=image/jpeg:https://lwvwoc.co.uk/wp-content/uploads/2020/04/Lincoln-castle.jpg
END:VEVENT
BEGIN:VEVENT
DTSTART;VALUE=DATE:20220925
DTEND;VALUE=DATE:20220926
DTSTAMP:20260422T110151
CREATED:20220224T192131Z
LAST-MODIFIED:20220914T203624Z
UID:10000031-1664064000-1664150399@lwvwoc.co.uk
SUMMARY:Hinckley Classic Motorshow - 2022
DESCRIPTION:Rescheduled by the show organisers to Sunday 25th September 2022 due to recent Royal events. \nThe Club are planning once again on attending the Hinckley Classic Motorshow\, having picked up a trophy at last year’s show\, the pressure is on to repeat our success! \nNow fully booked.
URL:https://lwvwoc.co.uk/event/hinckley-classic-motorshow-2022/
ATTACH;FMTTYPE=image/jpeg:https://lwvwoc.co.uk/wp-content/uploads/2021/11/20210919_121014_large-scaled.jpg
END:VEVENT
BEGIN:VEVENT
DTSTART;TZID=Europe/London:20220925T110000
DTEND;TZID=Europe/London:20220925T170000
DTSTAMP:20260422T110151
CREATED:20220702T164300Z
LAST-MODIFIED:20220914T203937Z
UID:10000039-1664103600-1664125200@lwvwoc.co.uk
SUMMARY:Cancelled: Picnic at Stanford Hall
DESCRIPTION:Unfortunately\, following the reschedule of the Hinckley Classic Motorshow to the same date\, the Club picnic has been cancelled.  Apologies to those who had plans to attend. \nClub picnic at Stanford Hall \n 
URL:https://lwvwoc.co.uk/event/picnic-at-stanford-hall/
LOCATION:Stanford Hall
ATTACH;FMTTYPE=image/jpeg:https://lwvwoc.co.uk/wp-content/uploads/2021/07/20210530_145051_large-scaled.jpg
END:VEVENT
END:VCALENDAR