BEGIN:VCALENDAR
VERSION:2.0
PRODID:-//L W V W O C - ECPv6.15.15//NONSGML v1.0//EN
CALSCALE:GREGORIAN
METHOD:PUBLISH
X-ORIGINAL-URL:https://lwvwoc.co.uk
X-WR-CALDESC:Events for L W V W O C
REFRESH-INTERVAL;VALUE=DURATION:PT1H
X-Robots-Tag:noindex
X-PUBLISHED-TTL:PT1H
BEGIN:VTIMEZONE
TZID:Europe/London
BEGIN:DAYLIGHT
TZOFFSETFROM:+0000
TZOFFSETTO:+0100
TZNAME:BST
DTSTART:20200329T010000
END:DAYLIGHT
BEGIN:STANDARD
TZOFFSETFROM:+0100
TZOFFSETTO:+0000
TZNAME:GMT
DTSTART:20201025T010000
END:STANDARD
BEGIN:DAYLIGHT
TZOFFSETFROM:+0000
TZOFFSETTO:+0100
TZNAME:BST
DTSTART:20210328T010000
END:DAYLIGHT
BEGIN:STANDARD
TZOFFSETFROM:+0100
TZOFFSETTO:+0000
TZNAME:GMT
DTSTART:20211031T010000
END:STANDARD
BEGIN:DAYLIGHT
TZOFFSETFROM:+0000
TZOFFSETTO:+0100
TZNAME:BST
DTSTART:20220327T010000
END:DAYLIGHT
BEGIN:STANDARD
TZOFFSETFROM:+0100
TZOFFSETTO:+0000
TZNAME:GMT
DTSTART:20221030T010000
END:STANDARD
END:VTIMEZONE
BEGIN:VEVENT
DTSTART;TZID=Europe/London:20211010T120000
DTEND;TZID=Europe/London:20211010T160000
DTSTAMP:20260423T043134
CREATED:20210321T204706Z
LAST-MODIFIED:20210919T214053Z
UID:10000019-1633867200-1633881600@lwvwoc.co.uk
SUMMARY:Annual General Meeting - 2021
DESCRIPTION:The Club intends to hold this year’s AGM\, combined with a Sunday lunch\, at the Wycliffe Rooms in Lutterworth on Sunday\, 10th October 2021. \nMeet at 12:00 noon\, £10 per member on the day. \nPlease contact Pat Screaton to book your place\, either on 0116 2867581 or patriciascreaton@gmail.com.
URL:https://lwvwoc.co.uk/event/annual-general-meeting-2021/
LOCATION:Wycliffe Rooms\, Lutterworth
ATTACH;FMTTYPE=image/jpeg:https://lwvwoc.co.uk/wp-content/uploads/2021/03/2019-AGM.jpg
END:VEVENT
BEGIN:VEVENT
DTSTART;TZID=Europe/London:20211026T193000
DTEND;TZID=Europe/London:20211026T213000
DTSTAMP:20260423T043134
CREATED:20210930T195948Z
LAST-MODIFIED:20210930T195948Z
UID:10000023-1635276600-1635283800@lwvwoc.co.uk
SUMMARY:Pub Quiz & Supper Evening - 2021
DESCRIPTION:A pub quiz and supper evening at The Red Lion\, Huncote\, Leicestershire\, LE9 3AU.  Meet at 7.30pm. \nJoin us for an evening of brain teasing quizzing to suit all ages and IQs coupled with a belly busting supper and claim the trophy and prize of club Brainbox 2021. \n£5.00 per member to be paid on the night. \nTo book your place please email Mark Forman on mjforman@hotmail.co.uk or text 07802 791 548.  (Please also confirm if you require the vegetarian meal choice.)
URL:https://lwvwoc.co.uk/event/pub-quiz-supper-evening-2021/
LOCATION:The Red Lion\, Huncote
ATTACH;FMTTYPE=image/jpeg:https://lwvwoc.co.uk/wp-content/uploads/2021/09/Red-Lion.jpg
END:VEVENT
END:VCALENDAR