BEGIN:VCALENDAR
VERSION:2.0
PRODID:-//L W V W O C - ECPv6.15.15//NONSGML v1.0//EN
CALSCALE:GREGORIAN
METHOD:PUBLISH
X-WR-CALNAME:L W V W O C
X-ORIGINAL-URL:https://lwvwoc.co.uk
X-WR-CALDESC:Events for L W V W O C
REFRESH-INTERVAL;VALUE=DURATION:PT1H
X-Robots-Tag:noindex
X-PUBLISHED-TTL:PT1H
BEGIN:VTIMEZONE
TZID:Europe/London
BEGIN:DAYLIGHT
TZOFFSETFROM:+0000
TZOFFSETTO:+0100
TZNAME:BST
DTSTART:20200329T010000
END:DAYLIGHT
BEGIN:STANDARD
TZOFFSETFROM:+0100
TZOFFSETTO:+0000
TZNAME:GMT
DTSTART:20201025T010000
END:STANDARD
BEGIN:DAYLIGHT
TZOFFSETFROM:+0000
TZOFFSETTO:+0100
TZNAME:BST
DTSTART:20210328T010000
END:DAYLIGHT
BEGIN:STANDARD
TZOFFSETFROM:+0100
TZOFFSETTO:+0000
TZNAME:GMT
DTSTART:20211031T010000
END:STANDARD
BEGIN:DAYLIGHT
TZOFFSETFROM:+0000
TZOFFSETTO:+0100
TZNAME:BST
DTSTART:20220327T010000
END:DAYLIGHT
BEGIN:STANDARD
TZOFFSETFROM:+0100
TZOFFSETTO:+0000
TZNAME:GMT
DTSTART:20221030T010000
END:STANDARD
END:VTIMEZONE
BEGIN:VEVENT
DTSTART;VALUE=DATE:20210822
DTEND;VALUE=DATE:20210823
DTSTAMP:20260423T075122
CREATED:20201128T192751Z
LAST-MODIFIED:20210624T203635Z
UID:10000020-1629590400-1629676799@lwvwoc.co.uk
SUMMARY:Rescheduled: Stanford Hall 2021
DESCRIPTION:“STANFORD HALL VW UPDATE” \nDue to the government postponement of all Covid-19 restrictions being lifted on June 21st\, the show organisers Leicestershire & Warwickshire VWOC\, have now moved the decision on whether the August 2021 show will take place to the week commencing 12th July 2021. \nIf\, on this date\, ALL restrictions associated with Covid-19 are removed from 19th July 2021\, the show WILL then go ahead as planned on Sunday 22nd August 2021.  ALL current bookings will of course be honoured.  We apologise for this further delay but feel sure all will understand our position. \nThe government’s intended decision on July 12th will be followed by a statement on the Stanford Hall Show and Club websites and also an announcement on the LWVWOC  Facebook pages. \nShow organising Committee of  LWVWOC. \n  \n 
URL:https://lwvwoc.co.uk/event/stanford-hall-2021/
ATTACH;FMTTYPE=image/jpeg:https://lwvwoc.co.uk/wp-content/uploads/2020/04/Stanford-Hall-2012-Small-00818.jpg
END:VEVENT
END:VCALENDAR