BEGIN:VCALENDAR
VERSION:2.0
PRODID:-//L W V W O C - ECPv6.15.15//NONSGML v1.0//EN
CALSCALE:GREGORIAN
METHOD:PUBLISH
X-WR-CALNAME:L W V W O C
X-ORIGINAL-URL:https://lwvwoc.co.uk
X-WR-CALDESC:Events for L W V W O C
REFRESH-INTERVAL;VALUE=DURATION:PT1H
X-Robots-Tag:noindex
X-PUBLISHED-TTL:PT1H
BEGIN:VTIMEZONE
TZID:Europe/London
BEGIN:DAYLIGHT
TZOFFSETFROM:+0000
TZOFFSETTO:+0100
TZNAME:BST
DTSTART:20250330T010000
END:DAYLIGHT
BEGIN:STANDARD
TZOFFSETFROM:+0100
TZOFFSETTO:+0000
TZNAME:GMT
DTSTART:20251026T010000
END:STANDARD
BEGIN:DAYLIGHT
TZOFFSETFROM:+0000
TZOFFSETTO:+0100
TZNAME:BST
DTSTART:20260329T010000
END:DAYLIGHT
BEGIN:STANDARD
TZOFFSETFROM:+0100
TZOFFSETTO:+0000
TZNAME:GMT
DTSTART:20261025T010000
END:STANDARD
BEGIN:DAYLIGHT
TZOFFSETFROM:+0000
TZOFFSETTO:+0100
TZNAME:BST
DTSTART:20270328T010000
END:DAYLIGHT
BEGIN:STANDARD
TZOFFSETFROM:+0100
TZOFFSETTO:+0000
TZNAME:GMT
DTSTART:20271031T010000
END:STANDARD
END:VTIMEZONE
BEGIN:VEVENT
DTSTART;TZID=Europe/London:20260308T120000
DTEND;TZID=Europe/London:20260308T170000
DTSTAMP:20260421T092458
CREATED:20251123T181356Z
LAST-MODIFIED:20260301T093947Z
UID:10000104-1772971200-1772989200@lwvwoc.co.uk
SUMMARY:The Crown @ Gillmorton. Sunday 8th March 2026\, 12 noon. POSTPONED
DESCRIPTION:POSTPONED \nDetails to follow. \nSunday Lunch at The Crown\, Gilmorton. Sunday 8th March 2026 12:00 noon.  Subsided price of £10 adults and £5 children. Contact Teresa: lwvwoc.trade@gmail.com \n 
URL:https://lwvwoc.co.uk/event/the-crown-gillmorton-sunday-8th-march-2026-12-noon/
LOCATION:The Crown\, Gilmorton
ATTACH;FMTTYPE=image/jpeg:https://lwvwoc.co.uk/wp-content/uploads/2024/12/crown.jpg
END:VEVENT
BEGIN:VEVENT
DTSTART;TZID=Europe/London:20260405T110000
DTEND;TZID=Europe/London:20260405T170000
DTSTAMP:20260421T092458
CREATED:20251123T182106Z
LAST-MODIFIED:20260301T093828Z
UID:10000105-1775386800-1775408400@lwvwoc.co.uk
SUMMARY:Easter Egg Hunt @Stanford Hall. Sunday 5th April 2026. 11:00am CANCELLED
DESCRIPTION:CANCELLED…Come and join us at Stanford Hall for an Easter Egg Hunt. Fun for all the family! \nFor more details contact: mjforman@hotmail.com
URL:https://lwvwoc.co.uk/event/easter-egg-hunt-stanford-hall-sunday-5th-april-2026-1100am/
LOCATION:Stanford Hall
ATTACH;FMTTYPE=image/webp:https://lwvwoc.co.uk/wp-content/uploads/2025/11/ee.webp
END:VEVENT
END:VCALENDAR