BEGIN:VCALENDAR
VERSION:2.0
PRODID:-//L W V W O C - ECPv6.15.15//NONSGML v1.0//EN
CALSCALE:GREGORIAN
METHOD:PUBLISH
X-WR-CALNAME:L W V W O C
X-ORIGINAL-URL:https://lwvwoc.co.uk
X-WR-CALDESC:Events for L W V W O C
REFRESH-INTERVAL;VALUE=DURATION:PT1H
X-Robots-Tag:noindex
X-PUBLISHED-TTL:PT1H
BEGIN:VTIMEZONE
TZID:Europe/London
BEGIN:DAYLIGHT
TZOFFSETFROM:+0000
TZOFFSETTO:+0100
TZNAME:BST
DTSTART:20220327T010000
END:DAYLIGHT
BEGIN:STANDARD
TZOFFSETFROM:+0100
TZOFFSETTO:+0000
TZNAME:GMT
DTSTART:20221030T010000
END:STANDARD
BEGIN:DAYLIGHT
TZOFFSETFROM:+0000
TZOFFSETTO:+0100
TZNAME:BST
DTSTART:20230326T010000
END:DAYLIGHT
BEGIN:STANDARD
TZOFFSETFROM:+0100
TZOFFSETTO:+0000
TZNAME:GMT
DTSTART:20231029T010000
END:STANDARD
BEGIN:DAYLIGHT
TZOFFSETFROM:+0000
TZOFFSETTO:+0100
TZNAME:BST
DTSTART:20240331T010000
END:DAYLIGHT
BEGIN:STANDARD
TZOFFSETFROM:+0100
TZOFFSETTO:+0000
TZNAME:GMT
DTSTART:20241027T010000
END:STANDARD
END:VTIMEZONE
BEGIN:VEVENT
DTSTART;VALUE=DATE:20230526
DTEND;VALUE=DATE:20230604
DTSTAMP:20260423T210332
CREATED:20230115T120828Z
LAST-MODIFIED:20230115T120828Z
UID:10000047-1685059200-1685836799@lwvwoc.co.uk
SUMMARY:Scottish Tour
DESCRIPTION:Friday 26th May – Saturday 3rd June. \nScottish Tour – New Lanark\, Oban and Fort William. Please contact Rob Loughrey to book place. See magazine (Winter Edition) for article.
URL:https://lwvwoc.co.uk/event/scottish-tour/
END:VEVENT
BEGIN:VEVENT
DTSTART;VALUE=DATE:20230617
DTEND;VALUE=DATE:20230619
DTSTAMP:20260423T210332
CREATED:20230115T122205Z
LAST-MODIFIED:20230115T144116Z
UID:10000048-1686960000-1687132799@lwvwoc.co.uk
SUMMARY:Lavenham Vintage VW Show
DESCRIPTION:Lavenham Vintage VW Show\, Lavenham\, Suffolk. The club has a stand with the main show day being Saturday 17th June. There is a campsite already booked close to Lavenham with some members already booked. Contact Mark Foreman for details 07802 791548 or mjforman@hotmail.co\,uk. It is also proposed to make a club weekend there\, with hotel accommodation being available probably at nearby Ipswich at a Premier Inn. Anyone wishing to coming along to join us at the hotel accommodation please contact Rob Loughrey ASAP: 01455 239723 / 07914 375645 or lwvwoc.chair@gmail.com
URL:https://lwvwoc.co.uk/event/lavenham-vintage-vw-show/
ATTACH;FMTTYPE=image/jpeg:https://lwvwoc.co.uk/wp-content/uploads/2023/01/lavenham.jpeg
END:VEVENT
BEGIN:VEVENT
DTSTART;VALUE=DATE:20230707
DTEND;VALUE=DATE:20230710
DTSTAMP:20260423T210332
CREATED:20230115T122948Z
LAST-MODIFIED:20230115T143525Z
UID:10000049-1688688000-1688947199@lwvwoc.co.uk
SUMMARY:Camper Jam 2023
DESCRIPTION:Friday 7th – Sunday 9th July. Camper Jam at Western Park. \nThis is an event which club members have shown an interest in attending. If you are interested\, please join the WhatsApp group for further information so we can get club camping plots. Please send your mobile phone number to Mark Sutton to be added to this group – 07973 670097.
URL:https://lwvwoc.co.uk/event/camper-jam-2023/
LOCATION:Western Park
ATTACH;FMTTYPE=image/jpeg:https://lwvwoc.co.uk/wp-content/uploads/2023/01/WhatsApp-Image-2023-01-15-at-14.33.52.jpeg
END:VEVENT
BEGIN:VEVENT
DTSTART;TZID=Europe/London:20230903T110000
DTEND;TZID=Europe/London:20230903T150000
DTSTAMP:20260423T210332
CREATED:20230806T201912Z
LAST-MODIFIED:20230806T201912Z
UID:10000058-1693738800-1693753200@lwvwoc.co.uk
SUMMARY:Market Bosworth Picnic - 2023
DESCRIPTION:Rescheduled due to the great British weather\, one of our most popular events\, the Club picnic is now taking place on Sunday\, 3rd Sep ’23 at the Market Bosworth Country Park (see below for directions). \nBeing a relaxed and informal outing\, there is no need to pre-book\, simply turn up on the day at 11:00am armed with a picnic lunch and camping chairs.  On arrival\, walk through the car park and you’ll find other Club members gathered on the grass. \nThere is a charge to use the car park\, up to a maximum of £5 for a stay of 3 hours or more\, with contactless payment machines in operation on the site. \nIn the event of poor weather on the day\, please call Colin Taylor on 07923 114603 for confirmation that the event is still going ahead. \nWe hope to see you there! \nDirections: \nMarket Bosworth Country Park is located in West Leicestershire\, 1 mile from the A447\, immediately to the east of Market Bosworth town.  The country park’s entrance and car park can be accessed from the B585 which leads into the market town (CV13 0LP).
URL:https://lwvwoc.co.uk/event/market-bosworth-picnic-2023/
LOCATION:Market Bosworth Country Park\, CV13 0LP\, United Kingdom
ATTACH;FMTTYPE=image/png:https://lwvwoc.co.uk/wp-content/uploads/2022/06/Market-Bosworth-Country-Park.png
ORGANIZER;CN="Colin Taylor":MAILTO:colintaylor77@icloud.com
END:VEVENT
END:VCALENDAR