BEGIN:VCALENDAR
VERSION:2.0
PRODID:-//L W V W O C - ECPv6.15.15//NONSGML v1.0//EN
CALSCALE:GREGORIAN
METHOD:PUBLISH
X-WR-CALNAME:L W V W O C
X-ORIGINAL-URL:https://lwvwoc.co.uk
X-WR-CALDESC:Events for L W V W O C
REFRESH-INTERVAL;VALUE=DURATION:PT1H
X-Robots-Tag:noindex
X-PUBLISHED-TTL:PT1H
BEGIN:VTIMEZONE
TZID:Europe/London
BEGIN:DAYLIGHT
TZOFFSETFROM:+0000
TZOFFSETTO:+0100
TZNAME:BST
DTSTART:20210328T010000
END:DAYLIGHT
BEGIN:STANDARD
TZOFFSETFROM:+0100
TZOFFSETTO:+0000
TZNAME:GMT
DTSTART:20211031T010000
END:STANDARD
BEGIN:DAYLIGHT
TZOFFSETFROM:+0000
TZOFFSETTO:+0100
TZNAME:BST
DTSTART:20220327T010000
END:DAYLIGHT
BEGIN:STANDARD
TZOFFSETFROM:+0100
TZOFFSETTO:+0000
TZNAME:GMT
DTSTART:20221030T010000
END:STANDARD
BEGIN:DAYLIGHT
TZOFFSETFROM:+0000
TZOFFSETTO:+0100
TZNAME:BST
DTSTART:20230326T010000
END:DAYLIGHT
BEGIN:STANDARD
TZOFFSETFROM:+0100
TZOFFSETTO:+0000
TZNAME:GMT
DTSTART:20231029T010000
END:STANDARD
END:VTIMEZONE
BEGIN:VEVENT
DTSTART;VALUE=DATE:20220501
DTEND;VALUE=DATE:20220502
DTSTAMP:20260422T233148
CREATED:20211128T171115Z
LAST-MODIFIED:20211128T171115Z
UID:10000027-1651363200-1651449599@lwvwoc.co.uk
SUMMARY:Stanford Hall Show - 2022
DESCRIPTION:This is the big one\, Stanford Hall show day!  After being cancelled for the last two years due to Covid-19\, it’s fair to say that we are seriously looking forward to getting back to normal and having a great show. \nIf you’re not familiar with the show\, the Stanford Hall event is seen by many as the year’s premier classic Volkswagen show but still retains a relaxed family-friendly atmosphere. \nSince the first event in 1976\, the emphasis has always been on putting on a great display of classic unmodified Volkswagens of all types. We have always aimed to give great value for money\, whether it’s in the entry prices or the fees for the trade stands. \nIt takes place around the lake on the grounds of a 17th Century Country House in rural Leicestershire.
URL:https://lwvwoc.co.uk/event/stanford-hall-show-2022/
LOCATION:Stanford Hall
ATTACH;FMTTYPE=image/jpeg:https://lwvwoc.co.uk/wp-content/uploads/2020/04/Stanford-Hall-2012-Small-00818.jpg
END:VEVENT
BEGIN:VEVENT
DTSTART;TZID=Europe/London:20220612T110000
DTEND;TZID=Europe/London:20220612T150000
DTSTAMP:20260422T233148
CREATED:20220602T195034Z
LAST-MODIFIED:20220602T195034Z
UID:10000032-1655031600-1655046000@lwvwoc.co.uk
SUMMARY:Market Bosworth Picnic - 2022
DESCRIPTION:One of our most popular events\, the Club picnic is taking place on Sunday\, 12th June ’22 at the Market Bosworth Country Park (see below for directions). \nBeing a relaxed and informal outing\, there is no need to pre-book\, simply turn up on the day at 11:00am armed with a picnic lunch and camping chairs.  On arrival\, walk through the car park and you’ll find other Club members gathered on the grass. \nThere is a charge to use the car park\, up to a maximum of £5 for a stay of 3 hours or more\, with contactless payment machines in operation on the site. \nWe hope to see you there! \nDirections: \nMarket Bosworth Country Park is located in West Leicestershire\, 1 mile from the A447\, immediately to the east of Market Bosworth town.  The country park’s entrance and car park can be accessed from the B585 which leads into the market town (CV13 0LP).
URL:https://lwvwoc.co.uk/event/market-bosworth-picnic-2022/
LOCATION:Market Bosworth Country Park\, CV13 0LP\, United Kingdom
ATTACH;FMTTYPE=image/png:https://lwvwoc.co.uk/wp-content/uploads/2022/06/Market-Bosworth-Country-Park.png
END:VEVENT
BEGIN:VEVENT
DTSTART;VALUE=DATE:20220623
DTEND;VALUE=DATE:20220628
DTSTAMP:20260422T233148
CREATED:20210323T205058Z
LAST-MODIFIED:20210323T205058Z
UID:10000015-1655942400-1656374399@lwvwoc.co.uk
SUMMARY:Hessisch Oldendorf - 2022
DESCRIPTION:The historic VW meet at Hessisch Oldendorf\, Germany was originally scheduled to take place in late June 2021 but like so many events\, it has now been pushed back a year due to Covid-19 restrictions. \nThe Club has chosen to carry across its existing hotel bookings to the new date rather than simply cancel and being a further 12 months in the future\, this opens up the possibility of securing additional rooms.  So\, if you missed signing up for the trip the first time around\, there’s now a second opportunity to take part!  As well as attending the show itself\, several Club members are also going to extend their trip by three days and stay in or around Wolfsburg. \nIf you are interested in going along and for further details\, please contact Rob Loughrey at lwvwoc.chair@gmail.com.
URL:https://lwvwoc.co.uk/event/hessisch-oldendorf-2022/
LOCATION:Hessisch Oldendorf\, Hessisch Oldendorf\, Lower Saxony\, 31840\, Germany
ATTACH;FMTTYPE=image/jpeg:https://lwvwoc.co.uk/wp-content/uploads/2021/03/19402016_1188347161276905_1561213350676380916_o.jpg
END:VEVENT
END:VCALENDAR